Package: topGO Version: 2.59.0 Command: E:\biocbuild\bbs-3.21-bioc\R\bin\R.exe CMD INSTALL topGO StartedAt: 2025-02-10 16:10:46 -0500 (Mon, 10 Feb 2025) EndedAt: 2025-02-10 16:11:49 -0500 (Mon, 10 Feb 2025) EllapsedTime: 63.1 seconds RetCode: 0 Status: OK