Package: tpSVG Version: 1.3.0 Command: rm -rf tpSVG.buildbin-libdir && mkdir tpSVG.buildbin-libdir && /Users/biocbuild/BBS/utils/build-universal.sh tpSVG_1.3.0.tar.gz /Library/Frameworks/R.framework/Resources/bin/R tpSVG.buildbin-libdir StartedAt: 2025-02-09 22:33:47 -0500 (Sun, 09 Feb 2025) EndedAt: 2025-02-09 22:33:59 -0500 (Sun, 09 Feb 2025) EllapsedTime: 11.3 seconds RetCode: 0 Status: OK PackageFile: tpSVG_1.3.0.tgz PackageFileSize: 1.241 MiB