Package: tpSVG Version: 1.3.0 Command: /home/biocbuild/R/R/bin/R CMD INSTALL tpSVG StartedAt: 2025-01-29 20:35:54 -0000 (Wed, 29 Jan 2025) EndedAt: 2025-01-29 20:36:28 -0000 (Wed, 29 Jan 2025) EllapsedTime: 33.8 seconds RetCode: 0 Status: OK