Package: tpSVG Version: 1.3.0 Command: /Library/Frameworks/R.framework/Resources/bin/R CMD INSTALL tpSVG StartedAt: 2025-02-09 15:45:12 -0500 (Sun, 09 Feb 2025) EndedAt: 2025-02-09 15:45:44 -0500 (Sun, 09 Feb 2025) EllapsedTime: 32.5 seconds RetCode: 0 Status: OK