Package: tpSVG Version: 1.3.0 Command: /home/biocbuild/bbs-3.21-bioc/R/bin/R CMD build --keep-empty-dirs --no-resave-data tpSVG StartedAt: 2025-02-09 19:38:08 -0500 (Sun, 09 Feb 2025) EndedAt: 2025-02-09 19:39:41 -0500 (Sun, 09 Feb 2025) EllapsedTime: 93.2 seconds RetCode: 0 Status: OK PackageFile: tpSVG_1.3.0.tar.gz PackageFileSize: 1.237 MiB