Package: tpSVG Version: 1.3.0 Command: rm -rf tpSVG.buildbin-libdir && mkdir tpSVG.buildbin-libdir && E:\biocbuild\bbs-3.21-bioc\R\bin\R.exe CMD INSTALL --build --library=tpSVG.buildbin-libdir tpSVG_1.3.0.tar.gz StartedAt: 2025-02-10 08:53:28 -0500 (Mon, 10 Feb 2025) EndedAt: 2025-02-10 08:53:57 -0500 (Mon, 10 Feb 2025) EllapsedTime: 29.6 seconds RetCode: 0 Status: OK PackageFile: tpSVG_1.3.0.zip PackageFileSize: 1.245 MiB