Package: tpSVG Version: 1.3.0 Command: chmod a+r tpSVG -R && E:\biocbuild\bbs-3.21-bioc\R\bin\R.exe CMD build --keep-empty-dirs --no-resave-data tpSVG StartedAt: 2025-02-09 22:08:07 -0500 (Sun, 09 Feb 2025) EndedAt: 2025-02-09 22:12:00 -0500 (Sun, 09 Feb 2025) EllapsedTime: 233.3 seconds RetCode: 0 Status: OK PackageFile: tpSVG_1.3.0.tar.gz PackageFileSize: 1.237 MiB