Package: tpSVG Version: 1.3.0 Command: E:\biocbuild\bbs-3.21-bioc\R\bin\R.exe CMD check --no-multiarch --install=check:tpSVG.install-out.txt --library=E:\biocbuild\bbs-3.21-bioc\R\library --no-vignettes --timings tpSVG_1.3.0.tar.gz StartedAt: 2025-02-04 06:41:57 -0500 (Tue, 04 Feb 2025) EndedAt: 2025-02-04 06:46:27 -0500 (Tue, 04 Feb 2025) EllapsedTime: 270.8 seconds RetCode: 0 Status: OK CheckDir: tpSVG.Rcheck Warnings: 0