Package: tpSVG Version: 1.3.0 Command: E:\biocbuild\bbs-3.21-bioc\R\bin\R.exe CMD INSTALL tpSVG StartedAt: 2025-02-03 17:08:21 -0500 (Mon, 03 Feb 2025) EndedAt: 2025-02-03 17:08:48 -0500 (Mon, 03 Feb 2025) EllapsedTime: 27.1 seconds RetCode: 0 Status: OK