Package: trackViewer Version: 1.43.6 Command: /Library/Frameworks/R.framework/Resources/bin/R CMD build --keep-empty-dirs --no-resave-data trackViewer StartedAt: 2025-02-04 17:50:15 -0500 (Tue, 04 Feb 2025) EndedAt: 2025-02-04 17:53:54 -0500 (Tue, 04 Feb 2025) EllapsedTime: 218.6 seconds RetCode: 0 Status: OK PackageFile: trackViewer_1.43.6.tar.gz PackageFileSize: 12.58 MiB