Package: trackViewer Version: 1.43.6 Command: /Library/Frameworks/R.framework/Resources/bin/R CMD check --install=check:trackViewer.install-out.txt --library=/Library/Frameworks/R.framework/Resources/library --no-vignettes --timings trackViewer_1.43.6.tar.gz StartedAt: 2025-02-04 21:49:02 -0500 (Tue, 04 Feb 2025) EndedAt: 2025-02-04 21:52:04 -0500 (Tue, 04 Feb 2025) EllapsedTime: 182.1 seconds RetCode: 0 Status: OK CheckDir: trackViewer.Rcheck Warnings: 0