Package: trackViewer Version: 1.43.6 Command: /Library/Frameworks/R.framework/Resources/bin/R CMD INSTALL trackViewer StartedAt: 2025-02-04 15:17:42 -0500 (Tue, 04 Feb 2025) EndedAt: 2025-02-04 15:18:05 -0500 (Tue, 04 Feb 2025) EllapsedTime: 23.1 seconds RetCode: 0 Status: OK