Package: trackViewer Version: 1.43.6 Command: /home/biocbuild/R/R/bin/R CMD build --keep-empty-dirs --no-resave-data trackViewer StartedAt: 2025-01-28 02:59:08 -0000 (Tue, 28 Jan 2025) EndedAt: 2025-01-28 03:16:20 -0000 (Tue, 28 Jan 2025) EllapsedTime: 1032.4 seconds RetCode: 0 Status: OK PackageFile: trackViewer_1.43.6.tar.gz PackageFileSize: 6.576 MiB