Package: trackViewer Version: 1.43.6 Command: /home/biocbuild/R/R/bin/R CMD check --install=check:trackViewer.install-out.txt --library=/home/biocbuild/R/R/site-library --no-vignettes --timings trackViewer_1.43.6.tar.gz StartedAt: 2025-01-27 13:32:26 -0000 (Mon, 27 Jan 2025) EndedAt: 2025-01-27 13:45:08 -0000 (Mon, 27 Jan 2025) EllapsedTime: 761.9 seconds RetCode: 0 Status: WARNINGS CheckDir: trackViewer.Rcheck Warnings: 5