Package: trackViewer Version: 1.43.6 Command: /home/biocbuild/R/R/bin/R CMD INSTALL trackViewer StartedAt: 2025-01-29 20:11:25 -0000 (Wed, 29 Jan 2025) EndedAt: 2025-01-29 20:12:48 -0000 (Wed, 29 Jan 2025) EllapsedTime: 83.6 seconds RetCode: 0 Status: OK