Package: trackViewer Version: 1.43.6 Command: rm -rf trackViewer.buildbin-libdir && mkdir trackViewer.buildbin-libdir && /Users/biocbuild/BBS/utils/build-universal.sh trackViewer_1.43.6.tar.gz /Library/Frameworks/R.framework/Resources/bin/R trackViewer.buildbin-libdir StartedAt: 2025-02-05 01:06:45 -0500 (Wed, 05 Feb 2025) EndedAt: 2025-02-05 01:08:10 -0500 (Wed, 05 Feb 2025) EllapsedTime: 84.5 seconds RetCode: 0 Status: OK PackageFile: trackViewer_1.43.6.tgz PackageFileSize: 13.33 MiB