Package: trackViewer Version: 1.43.6 Command: /Library/Frameworks/R.framework/Resources/bin/R CMD build --keep-empty-dirs --no-resave-data trackViewer StartedAt: 2025-02-04 18:36:27 -0500 (Tue, 04 Feb 2025) EndedAt: 2025-02-04 18:47:20 -0500 (Tue, 04 Feb 2025) EllapsedTime: 653.3 seconds RetCode: 0 Status: OK PackageFile: trackViewer_1.43.6.tar.gz PackageFileSize: 12.57 MiB