Package: trackViewer Version: 1.43.6 Command: /home/biocbuild/bbs-3.21-bioc/R/bin/R CMD build --keep-empty-dirs --no-resave-data trackViewer StartedAt: 2025-02-04 19:35:52 -0500 (Tue, 04 Feb 2025) EndedAt: 2025-02-04 19:46:40 -0500 (Tue, 04 Feb 2025) EllapsedTime: 648.2 seconds RetCode: 0 Status: OK PackageFile: trackViewer_1.43.6.tar.gz PackageFileSize: 10.26 MiB