Package: trackViewer Version: 1.43.6 Command: /home/biocbuild/bbs-3.21-bioc/R/bin/R CMD check --install=check:trackViewer.install-out.txt --library=/home/biocbuild/bbs-3.21-bioc/R/site-library --timings trackViewer_1.43.6.tar.gz StartedAt: 2025-02-05 03:33:43 -0500 (Wed, 05 Feb 2025) EndedAt: 2025-02-05 03:53:42 -0500 (Wed, 05 Feb 2025) EllapsedTime: 1199.5 seconds RetCode: 0 Status: OK CheckDir: trackViewer.Rcheck Warnings: 0