Package: trackViewer Version: 1.43.6 Command: /home/biocbuild/bbs-3.21-bioc/R/bin/R CMD INSTALL trackViewer StartedAt: 2025-02-04 15:44:48 -0500 (Tue, 04 Feb 2025) EndedAt: 2025-02-04 15:45:46 -0500 (Tue, 04 Feb 2025) EllapsedTime: 58.7 seconds RetCode: 0 Status: OK