Package: trackViewer Version: 1.43.6 Command: rm -rf trackViewer.buildbin-libdir && mkdir trackViewer.buildbin-libdir && E:\biocbuild\bbs-3.21-bioc\R\bin\R.exe CMD INSTALL --build --library=trackViewer.buildbin-libdir trackViewer_1.43.6.tar.gz StartedAt: 2025-02-05 09:06:40 -0500 (Wed, 05 Feb 2025) EndedAt: 2025-02-05 09:08:25 -0500 (Wed, 05 Feb 2025) EllapsedTime: 104.3 seconds RetCode: 0 Status: OK PackageFile: trackViewer_1.43.6.zip PackageFileSize: 6.34 MiB