Package: trackViewer Version: 1.43.6 Command: chmod a+r trackViewer -R && E:\biocbuild\bbs-3.21-bioc\R\bin\R.exe CMD build --keep-empty-dirs --no-resave-data trackViewer StartedAt: 2025-02-04 22:10:28 -0500 (Tue, 04 Feb 2025) EndedAt: 2025-02-04 22:23:35 -0500 (Tue, 04 Feb 2025) EllapsedTime: 787.3 seconds RetCode: 0 Status: OK PackageFile: trackViewer_1.43.6.tar.gz PackageFileSize: 5.582 MiB