Package: trackViewer Version: 1.43.6 Command: E:\biocbuild\bbs-3.21-bioc\R\bin\R.exe CMD check --no-multiarch --install=check:trackViewer.install-out.txt --library=E:\biocbuild\bbs-3.21-bioc\R\library --no-vignettes --timings trackViewer_1.43.6.tar.gz StartedAt: 2025-02-05 06:39:56 -0500 (Wed, 05 Feb 2025) EndedAt: 2025-02-05 06:49:12 -0500 (Wed, 05 Feb 2025) EllapsedTime: 555.6 seconds RetCode: 0 Status: OK CheckDir: trackViewer.Rcheck Warnings: 0