Package: tradeSeq Version: 1.21.0 Command: rm -rf tradeSeq.buildbin-libdir && mkdir tradeSeq.buildbin-libdir && /Users/biocbuild/BBS/utils/build-universal.sh tradeSeq_1.21.0.tar.gz /Library/Frameworks/R.framework/Resources/bin/R tradeSeq.buildbin-libdir StartedAt: 2025-02-09 22:33:51 -0500 (Sun, 09 Feb 2025) EndedAt: 2025-02-09 22:34:05 -0500 (Sun, 09 Feb 2025) EllapsedTime: 14.4 seconds RetCode: 0 Status: OK PackageFile: tradeSeq_1.21.0.tgz PackageFileSize: 5.534 MiB