Package: tradeSeq Version: 1.21.0 Command: /Library/Frameworks/R.framework/Resources/bin/R CMD build --keep-empty-dirs --no-resave-data tradeSeq StartedAt: 2025-02-09 17:49:52 -0500 (Sun, 09 Feb 2025) EndedAt: 2025-02-09 17:52:57 -0500 (Sun, 09 Feb 2025) EllapsedTime: 185.2 seconds RetCode: 0 Status: OK PackageFile: tradeSeq_1.21.0.tar.gz PackageFileSize: 5.967 MiB