Package: tradeSeq Version: 1.21.0 Command: /home/biocbuild/bbs-3.21-bioc/R/bin/R CMD check --install=check:tradeSeq.install-out.txt --library=/home/biocbuild/bbs-3.21-bioc/R/site-library --timings tradeSeq_1.21.0.tar.gz StartedAt: 2025-02-10 03:26:44 -0500 (Mon, 10 Feb 2025) EndedAt: 2025-02-10 03:51:56 -0500 (Mon, 10 Feb 2025) EllapsedTime: 1511.1 seconds RetCode: 0 Status: OK CheckDir: tradeSeq.Rcheck Warnings: 0