Package: tradeSeq Version: 1.21.0 Command: chmod a+r tradeSeq -R && E:\biocbuild\bbs-3.21-bioc\R\bin\R.exe CMD build --keep-empty-dirs --no-resave-data tradeSeq StartedAt: 2025-02-09 22:08:35 -0500 (Sun, 09 Feb 2025) EndedAt: 2025-02-09 22:17:36 -0500 (Sun, 09 Feb 2025) EllapsedTime: 541.0 seconds RetCode: 0 Status: OK PackageFile: tradeSeq_1.21.0.tar.gz PackageFileSize: 2.889 MiB