Package: tradeSeq Version: 1.21.0 Command: E:\biocbuild\bbs-3.21-bioc\R\bin\R.exe CMD INSTALL tradeSeq StartedAt: 2025-02-09 16:24:19 -0500 (Sun, 09 Feb 2025) EndedAt: 2025-02-09 16:25:07 -0500 (Sun, 09 Feb 2025) EllapsedTime: 48.0 seconds RetCode: 0 Status: OK