Package: transcriptR Version: 1.35.0 Command: /Library/Frameworks/R.framework/Resources/bin/R CMD check --install=check:transcriptR.install-out.txt --library=/Library/Frameworks/R.framework/Resources/library --no-vignettes --timings transcriptR_1.35.0.tar.gz StartedAt: 2025-02-04 21:49:45 -0500 (Tue, 04 Feb 2025) EndedAt: 2025-02-04 21:52:19 -0500 (Tue, 04 Feb 2025) EllapsedTime: 153.8 seconds RetCode: 0 Status: OK CheckDir: transcriptR.Rcheck Warnings: 0