Package: transcriptR Version: 1.35.0 Command: /home/biocbuild/R/R/bin/R CMD check --install=check:transcriptR.install-out.txt --library=/home/biocbuild/R/R/site-library --no-vignettes --timings transcriptR_1.35.0.tar.gz StartedAt: 2025-01-27 13:33:25 -0000 (Mon, 27 Jan 2025) EndedAt: 2025-01-27 13:44:05 -0000 (Mon, 27 Jan 2025) EllapsedTime: 640.6 seconds RetCode: 0 Status: OK CheckDir: transcriptR.Rcheck Warnings: 0