Package: transcriptR Version: 1.35.0 Command: rm -rf transcriptR.buildbin-libdir && mkdir transcriptR.buildbin-libdir && /Users/biocbuild/BBS/utils/build-universal.sh transcriptR_1.35.0.tar.gz /Library/Frameworks/R.framework/Resources/bin/R transcriptR.buildbin-libdir StartedAt: 2025-02-10 01:21:08 -0500 (Mon, 10 Feb 2025) EndedAt: 2025-02-10 01:22:16 -0500 (Mon, 10 Feb 2025) EllapsedTime: 68.8 seconds RetCode: 0 Status: OK PackageFile: transcriptR_1.35.0.tgz PackageFileSize: 3.193 MiB