Package: transcriptR Version: 1.35.0 Command: /home/biocbuild/bbs-3.21-bioc/R/bin/R CMD check --install=check:transcriptR.install-out.txt --library=/home/biocbuild/bbs-3.21-bioc/R/site-library --timings transcriptR_1.35.0.tar.gz StartedAt: 2025-02-05 03:34:57 -0500 (Wed, 05 Feb 2025) EndedAt: 2025-02-05 03:42:25 -0500 (Wed, 05 Feb 2025) EllapsedTime: 448.6 seconds RetCode: 0 Status: OK CheckDir: transcriptR.Rcheck Warnings: 0