Package: transcriptR Version: 1.35.0 Command: rm -rf transcriptR.buildbin-libdir && mkdir transcriptR.buildbin-libdir && E:\biocbuild\bbs-3.21-bioc\R\bin\R.exe CMD INSTALL --build --library=transcriptR.buildbin-libdir transcriptR_1.35.0.tar.gz StartedAt: 2025-02-04 09:06:48 -0500 (Tue, 04 Feb 2025) EndedAt: 2025-02-04 09:08:14 -0500 (Tue, 04 Feb 2025) EllapsedTime: 86.1 seconds RetCode: 0 Status: OK PackageFile: transcriptR_1.35.0.zip PackageFileSize: 2.975 MiB