Package: transcriptR Version: 1.35.0 Command: E:\biocbuild\bbs-3.21-bioc\R\bin\R.exe CMD INSTALL transcriptR StartedAt: 2025-02-09 16:56:07 -0500 (Sun, 09 Feb 2025) EndedAt: 2025-02-09 16:57:27 -0500 (Sun, 09 Feb 2025) EllapsedTime: 80.8 seconds RetCode: 0 Status: OK