Package: transformGamPoi Version: 1.13.0 Command: /Library/Frameworks/R.framework/Resources/bin/R CMD INSTALL transformGamPoi StartedAt: 2025-02-09 15:06:04 -0500 (Sun, 09 Feb 2025) EndedAt: 2025-02-09 15:06:09 -0500 (Sun, 09 Feb 2025) EllapsedTime: 4.4 seconds RetCode: 0 Status: OK