Package: transformGamPoi Version: 1.13.0 Command: rm -rf transformGamPoi.buildbin-libdir && mkdir transformGamPoi.buildbin-libdir && /Users/biocbuild/BBS/utils/build-universal.sh transformGamPoi_1.13.0.tar.gz /Library/Frameworks/R.framework/Resources/bin/R transformGamPoi.buildbin-libdir StartedAt: 2025-02-10 01:21:08 -0500 (Mon, 10 Feb 2025) EndedAt: 2025-02-10 01:21:26 -0500 (Mon, 10 Feb 2025) EllapsedTime: 18.7 seconds RetCode: 0 Status: OK PackageFile: transformGamPoi_1.13.0.tgz PackageFileSize: 701.9 KiB