Package: transformGamPoi Version: 1.13.0 Command: /Library/Frameworks/R.framework/Resources/bin/R CMD check --install=check:transformGamPoi.install-out.txt --library=/Library/Frameworks/R.framework/Resources/library --no-vignettes --timings transformGamPoi_1.13.0.tar.gz StartedAt: 2025-02-10 00:11:27 -0500 (Mon, 10 Feb 2025) EndedAt: 2025-02-10 00:13:45 -0500 (Mon, 10 Feb 2025) EllapsedTime: 138.0 seconds RetCode: 0 Status: OK CheckDir: transformGamPoi.Rcheck Warnings: 0