Package: transformGamPoi Version: 1.13.0 Command: chmod a+r transformGamPoi -R && E:\biocbuild\bbs-3.21-bioc\R\bin\R.exe CMD build --keep-empty-dirs --no-resave-data transformGamPoi StartedAt: 2025-02-09 22:09:06 -0500 (Sun, 09 Feb 2025) EndedAt: 2025-02-09 22:11:34 -0500 (Sun, 09 Feb 2025) EllapsedTime: 147.9 seconds RetCode: 0 Status: OK PackageFile: transformGamPoi_1.13.0.tar.gz PackageFileSize: 403.4 KiB