Package: transite Version: 1.25.0 Command: rm -rf transite.buildbin-libdir && mkdir transite.buildbin-libdir && /Users/biocbuild/BBS/utils/build-universal.sh transite_1.25.0.tar.gz /Library/Frameworks/R.framework/Resources/bin/R transite.buildbin-libdir StartedAt: 2025-02-10 01:21:08 -0500 (Mon, 10 Feb 2025) EndedAt: 2025-02-10 01:21:40 -0500 (Mon, 10 Feb 2025) EllapsedTime: 32.5 seconds RetCode: 0 Status: OK PackageFile: transite_1.25.0.tgz PackageFileSize: 1.01 MiB