Package: transite Version: 1.25.0 Command: /Library/Frameworks/R.framework/Resources/bin/R CMD check --install=check:transite.install-out.txt --library=/Library/Frameworks/R.framework/Resources/library --no-vignettes --timings transite_1.25.0.tar.gz StartedAt: 2025-02-10 00:11:28 -0500 (Mon, 10 Feb 2025) EndedAt: 2025-02-10 00:20:16 -0500 (Mon, 10 Feb 2025) EllapsedTime: 528.5 seconds RetCode: 0 Status: OK CheckDir: transite.Rcheck Warnings: 0