Package: transite Version: 1.25.0 Command: /home/biocbuild/bbs-3.21-bioc/R/bin/R CMD INSTALL transite StartedAt: 2025-02-03 15:39:08 -0500 (Mon, 03 Feb 2025) EndedAt: 2025-02-03 15:39:30 -0500 (Mon, 03 Feb 2025) EllapsedTime: 21.6 seconds RetCode: 0 Status: OK