Package: transite Version: 1.25.0 Command: E:\biocbuild\bbs-3.21-bioc\R\bin\R.exe CMD INSTALL transite StartedAt: 2025-02-03 16:04:14 -0500 (Mon, 03 Feb 2025) EndedAt: 2025-02-03 16:05:54 -0500 (Mon, 03 Feb 2025) EllapsedTime: 99.8 seconds RetCode: 0 Status: OK