Package: transmogR Version: 1.3.0 Command: rm -rf transmogR.buildbin-libdir && mkdir transmogR.buildbin-libdir && /Users/biocbuild/BBS/utils/build-universal.sh transmogR_1.3.0.tar.gz /Library/Frameworks/R.framework/Resources/bin/R transmogR.buildbin-libdir StartedAt: 2025-02-09 22:33:54 -0500 (Sun, 09 Feb 2025) EndedAt: 2025-02-09 22:34:11 -0500 (Sun, 09 Feb 2025) EllapsedTime: 17.4 seconds RetCode: 0 Status: OK PackageFile: transmogR_1.3.0.tgz PackageFileSize: 639.1 KiB