Package: transmogR Version: 1.3.0 Command: /Library/Frameworks/R.framework/Resources/bin/R CMD check --install=check:transmogR.install-out.txt --library=/Library/Frameworks/R.framework/Resources/library --no-vignettes --timings transmogR_1.3.0.tar.gz StartedAt: 2025-02-09 21:48:34 -0500 (Sun, 09 Feb 2025) EndedAt: 2025-02-09 21:50:45 -0500 (Sun, 09 Feb 2025) EllapsedTime: 130.6 seconds RetCode: 0 Status: OK CheckDir: transmogR.Rcheck Warnings: 0