Package: transmogR Version: 1.3.0 Command: rm -rf transmogR.buildbin-libdir && mkdir transmogR.buildbin-libdir && /Users/biocbuild/BBS/utils/build-universal.sh transmogR_1.3.0.tar.gz /Library/Frameworks/R.framework/Resources/bin/R transmogR.buildbin-libdir StartedAt: 2025-02-10 01:21:09 -0500 (Mon, 10 Feb 2025) EndedAt: 2025-02-10 01:22:06 -0500 (Mon, 10 Feb 2025) EllapsedTime: 57.2 seconds RetCode: 0 Status: OK PackageFile: transmogR_1.3.0.tgz PackageFileSize: 638.2 KiB