Package: transmogR Version: 1.3.0 Command: /Library/Frameworks/R.framework/Resources/bin/R CMD build --keep-empty-dirs --no-resave-data transmogR StartedAt: 2025-02-09 18:45:38 -0500 (Sun, 09 Feb 2025) EndedAt: 2025-02-09 18:46:58 -0500 (Sun, 09 Feb 2025) EllapsedTime: 79.8 seconds RetCode: 0 Status: OK PackageFile: transmogR_1.3.0.tar.gz PackageFileSize: 577.2 KiB