Package: transmogR Version: 1.3.0 Command: /Library/Frameworks/R.framework/Resources/bin/R CMD check --install=check:transmogR.install-out.txt --library=/Library/Frameworks/R.framework/Resources/library --no-vignettes --timings transmogR_1.3.0.tar.gz StartedAt: 2025-02-10 00:11:43 -0500 (Mon, 10 Feb 2025) EndedAt: 2025-02-10 00:18:01 -0500 (Mon, 10 Feb 2025) EllapsedTime: 378.3 seconds RetCode: 0 Status: OK CheckDir: transmogR.Rcheck Warnings: 0