Package: transmogR Version: 1.3.0 Command: /home/biocbuild/bbs-3.21-bioc/R/bin/R CMD build --keep-empty-dirs --no-resave-data transmogR StartedAt: 2025-02-09 19:38:57 -0500 (Sun, 09 Feb 2025) EndedAt: 2025-02-09 19:40:10 -0500 (Sun, 09 Feb 2025) EllapsedTime: 73.2 seconds RetCode: 0 Status: OK PackageFile: transmogR_1.3.0.tar.gz PackageFileSize: 568.2 KiB