Package: transmogR Version: 1.3.0 Command: rm -rf transmogR.buildbin-libdir && mkdir transmogR.buildbin-libdir && E:\biocbuild\bbs-3.21-bioc\R\bin\R.exe CMD INSTALL --build --library=transmogR.buildbin-libdir transmogR_1.3.0.tar.gz StartedAt: 2025-02-10 08:53:52 -0500 (Mon, 10 Feb 2025) EndedAt: 2025-02-10 08:54:41 -0500 (Mon, 10 Feb 2025) EllapsedTime: 48.4 seconds RetCode: 0 Status: OK PackageFile: transmogR_1.3.0.zip PackageFileSize: 602.4 KiB