Package: transmogR Version: 1.3.0 Command: chmod a+r transmogR -R && E:\biocbuild\bbs-3.21-bioc\R\bin\R.exe CMD build --keep-empty-dirs --no-resave-data transmogR StartedAt: 2025-02-09 22:09:24 -0500 (Sun, 09 Feb 2025) EndedAt: 2025-02-09 22:11:08 -0500 (Sun, 09 Feb 2025) EllapsedTime: 103.9 seconds RetCode: 0 Status: OK PackageFile: transmogR_1.3.0.tar.gz PackageFileSize: 535.3 KiB